BEGIN:VCALENDAR
VERSION:2.0
PRODID:-//ChamberMaster//Event Calendar 2.0//EN
METHOD:PUBLISH
X-PUBLISHED-TTL:P3D
REFRESH-INTERVAL:P3D
CALSCALE:GREGORIAN
BEGIN:VEVENT
DTSTART:20180412T183000Z
DTEND:20180412T200000Z
X-MICROSOFT-CDO-ALLDAYEVENT:FALSE
SUMMARY:Monthly Chamber Luncheon
DESCRIPTION:Join us as we hear from Cascade Job Corps College and Career Academy
X-ALT-DESC;FMTTYPE=text/html:Join us as we hear from Cascade Job Corps College and Career Academy&nbsp\;<br />\n&nbsp\;
LOCATION:Majestic Inn and Spa\, 419 Commercial Ave in the ballroom
UID:e.228.16896
SEQUENCE:3
DTSTAMP:20260422T014752Z
URL:https://members.anacortes.org/events/details/monthly-chamber-luncheon-04-12-2018-16896
END:VEVENT

END:VCALENDAR
